BEGIN:VCALENDAR
VERSION:2.0
PRODID:-//Orton Academy - ECPv6.15.20//NONSGML v1.0//EN
CALSCALE:GREGORIAN
METHOD:PUBLISH
X-ORIGINAL-URL:https://ortonk8.org
X-WR-CALDESC:Events for Orton Academy
REFRESH-INTERVAL;VALUE=DURATION:PT1H
X-Robots-Tag:noindex
X-PUBLISHED-TTL:PT1H
BEGIN:VTIMEZONE
TZID:America/Denver
BEGIN:DAYLIGHT
TZOFFSETFROM:-0700
TZOFFSETTO:-0600
TZNAME:MDT
DTSTART:20240310T090000
END:DAYLIGHT
BEGIN:STANDARD
TZOFFSETFROM:-0600
TZOFFSETTO:-0700
TZNAME:MST
DTSTART:20241103T080000
END:STANDARD
BEGIN:DAYLIGHT
TZOFFSETFROM:-0700
TZOFFSETTO:-0600
TZNAME:MDT
DTSTART:20250309T090000
END:DAYLIGHT
BEGIN:STANDARD
TZOFFSETFROM:-0600
TZOFFSETTO:-0700
TZNAME:MST
DTSTART:20251102T080000
END:STANDARD
BEGIN:DAYLIGHT
TZOFFSETFROM:-0700
TZOFFSETTO:-0600
TZNAME:MDT
DTSTART:20260308T090000
END:DAYLIGHT
BEGIN:STANDARD
TZOFFSETFROM:-0600
TZOFFSETTO:-0700
TZNAME:MST
DTSTART:20261101T080000
END:STANDARD
END:VTIMEZONE
BEGIN:VEVENT
DTSTART;VALUE=DATE:20250929
DTEND;VALUE=DATE:20251004
DTSTAMP:20260423T153635
CREATED:20250904T183856Z
LAST-MODIFIED:20250904T183856Z
UID:12200-1759104000-1759535999@ortonk8.org
SUMMARY:SPIRIT WEEK
DESCRIPTION:
URL:https://ortonk8.org/event/spirit-week/
END:VEVENT
BEGIN:VEVENT
DTSTART;VALUE=DATE:20251007
DTEND;VALUE=DATE:20251031
DTSTAMP:20260423T153635
CREATED:20251007T144126Z
LAST-MODIFIED:20251007T144126Z
UID:12249-1759795200-1761868799@ortonk8.org
SUMMARY:SQUASH the Competition - Pumpkin Carving Contest
DESCRIPTION:Contest Guidelines & Important Dates\n  \n\n\nThe Mission: Decorate a pumpkin to look like a completely different object\, animal\, or character!\nNo Carving\, Please! To ensure everyone’s masterpiece lasts until the judging day\, we strongly encourage students not to cut into or carve their pumpkins. Decoration should be done on the surface with paint\, glue\, markers\, accessories\, etc.\nSubmission Deadline: The last day to bring in a decorated pumpkin is Thursday\, October 30th.\nDisplay Location: All the amazing creations will be proudly displayed in front of the office for everyone to admire.\n\nJudging & Prize\n  \n\n\nVoting Day: On Friday\, October 31st\, students will get to vote for the “Coolest Pumpkin” in a student-only poll.\nThe Prize: The student with the most votes will win a special prize on Halloween!\n\nA Note on Pickup: All pumpkins must be taken home at the end of the school day on Friday\, October 31st. Please make arrangements to have your student collect their artwork that day. \nWe can’t wait to see the incredible\, “un-pumpkin-like” creations! This is a wonderful family project to get everyone in the festive spirit.
URL:https://ortonk8.org/event/squash-the-competition-pumpkin-carving-contest/
END:VEVENT
BEGIN:VEVENT
DTSTART;VALUE=DATE:20251010
DTEND;VALUE=DATE:20251011
DTSTAMP:20260423T153635
CREATED:20250903T200212Z
LAST-MODIFIED:20250903T200212Z
UID:12190-1760054400-1760140799@ortonk8.org
SUMMARY:End of the 1st Quarter
DESCRIPTION:Classes are in session
URL:https://ortonk8.org/event/end-of-the-1st-quarter/
END:VEVENT
BEGIN:VEVENT
DTSTART;TZID=America/Denver:20251021T134500
DTEND;TZID=America/Denver:20251021T154500
DTSTAMP:20260423T153635
CREATED:20251007T144849Z
LAST-MODIFIED:20251007T144858Z
UID:12257-1761054300-1761061500@ortonk8.org
SUMMARY:Early Release
DESCRIPTION:Students are dismissed at 1:45pm
URL:https://ortonk8.org/event/early-release-5/
END:VEVENT
BEGIN:VEVENT
DTSTART;VALUE=DATE:20251023
DTEND;VALUE=DATE:20251024
DTSTAMP:20260423T153635
CREATED:20251007T144447Z
LAST-MODIFIED:20251007T144447Z
UID:12251-1761177600-1761263999@ortonk8.org
SUMMARY:Parent-Teacher Conferences - No Students
DESCRIPTION:Parent-Teacher Conferences.  Conferences are by appointment.  Please reach out to your student’s teacher for scheduling options.
URL:https://ortonk8.org/event/parent-teacher-conferences-no-students/
END:VEVENT
BEGIN:VEVENT
DTSTART;VALUE=DATE:20251024
DTEND;VALUE=DATE:20251025
DTSTAMP:20260423T153635
CREATED:20251007T144548Z
LAST-MODIFIED:20251007T144548Z
UID:12253-1761264000-1761350399@ortonk8.org
SUMMARY:NO SCHOOL
DESCRIPTION:No school for students or staff. \nEnjoy the long FALL weekend!
URL:https://ortonk8.org/event/no-school/
END:VEVENT
END:VCALENDAR