BEGIN:VCALENDAR
VERSION:2.0
PRODID:-//Orton Academy - ECPv6.15.20//NONSGML v1.0//EN
CALSCALE:GREGORIAN
METHOD:PUBLISH
X-ORIGINAL-URL:https://ortonk8.org
X-WR-CALDESC:Events for Orton Academy
REFRESH-INTERVAL;VALUE=DURATION:PT1H
X-Robots-Tag:noindex
X-PUBLISHED-TTL:PT1H
BEGIN:VTIMEZONE
TZID:America/Denver
BEGIN:DAYLIGHT
TZOFFSETFROM:-0700
TZOFFSETTO:-0600
TZNAME:MDT
DTSTART:20240310T090000
END:DAYLIGHT
BEGIN:STANDARD
TZOFFSETFROM:-0600
TZOFFSETTO:-0700
TZNAME:MST
DTSTART:20241103T080000
END:STANDARD
BEGIN:DAYLIGHT
TZOFFSETFROM:-0700
TZOFFSETTO:-0600
TZNAME:MDT
DTSTART:20250309T090000
END:DAYLIGHT
BEGIN:STANDARD
TZOFFSETFROM:-0600
TZOFFSETTO:-0700
TZNAME:MST
DTSTART:20251102T080000
END:STANDARD
BEGIN:DAYLIGHT
TZOFFSETFROM:-0700
TZOFFSETTO:-0600
TZNAME:MDT
DTSTART:20260308T090000
END:DAYLIGHT
BEGIN:STANDARD
TZOFFSETFROM:-0600
TZOFFSETTO:-0700
TZNAME:MST
DTSTART:20261101T080000
END:STANDARD
END:VTIMEZONE
BEGIN:VEVENT
DTSTART;VALUE=DATE:20250908
DTEND;VALUE=DATE:20250923
DTSTAMP:20260423T164121
CREATED:20250904T190227Z
LAST-MODIFIED:20250904T190227Z
UID:12204-1757289600-1758585599@ortonk8.org
SUMMARY:Popcorn Sales - Music Fundraiser
DESCRIPTION:Let’s help Orton raise money by selling as much popcorn as possible to support Mr. Price and the music department!\nOrton ID 124871
URL:https://ortonk8.org/event/popcorn-sales-music-fundraiser/
END:VEVENT
BEGIN:VEVENT
DTSTART;TZID=America/Denver:20250912T134500
DTEND;TZID=America/Denver:20250912T134500
DTSTAMP:20260423T164121
CREATED:20250605T170356Z
LAST-MODIFIED:20250605T170356Z
UID:12110-1757684700-1757684700@ortonk8.org
SUMMARY:Early Release
DESCRIPTION:
URL:https://ortonk8.org/event/early-release/
END:VEVENT
BEGIN:VEVENT
DTSTART;VALUE=DATE:20250916
DTEND;VALUE=DATE:20250917
DTSTAMP:20260423T164121
CREATED:20250904T162248Z
LAST-MODIFIED:20250904T162248Z
UID:12194-1757980800-1758067199@ortonk8.org
SUMMARY:Orton Picture Day
DESCRIPTION:
URL:https://ortonk8.org/event/orton-picture-day/
END:VEVENT
BEGIN:VEVENT
DTSTART;TZID=America/Denver:20250922T173000
DTEND;TZID=America/Denver:20250922T193000
DTSTAMP:20260423T164121
CREATED:20250904T194647Z
LAST-MODIFIED:20250904T195215Z
UID:12213-1758562200-1758569400@ortonk8.org
SUMMARY:Orton Academy - Skate City Glow Party
DESCRIPTION:
URL:https://ortonk8.org/event/orton-academy-skate-city-glow-party/
END:VEVENT
BEGIN:VEVENT
DTSTART;TZID=America/Denver:20250926T134500
DTEND;TZID=America/Denver:20250926T134500
DTSTAMP:20260423T164121
CREATED:20250605T170521Z
LAST-MODIFIED:20250605T170521Z
UID:12113-1758894300-1758894300@ortonk8.org
SUMMARY:Early Release
DESCRIPTION:
URL:https://ortonk8.org/event/early-release-2/
END:VEVENT
BEGIN:VEVENT
DTSTART;VALUE=DATE:20250929
DTEND;VALUE=DATE:20251004
DTSTAMP:20260423T164122
CREATED:20250904T183856Z
LAST-MODIFIED:20250904T183856Z
UID:12200-1759104000-1759535999@ortonk8.org
SUMMARY:SPIRIT WEEK
DESCRIPTION:
URL:https://ortonk8.org/event/spirit-week/
END:VEVENT
END:VCALENDAR