BEGIN:VCALENDAR
VERSION:2.0
PRODID:-//Orton Academy - ECPv6.15.20//NONSGML v1.0//EN
CALSCALE:GREGORIAN
METHOD:PUBLISH
X-WR-CALNAME:Orton Academy
X-ORIGINAL-URL:https://ortonk8.org
X-WR-CALDESC:Events for Orton Academy
REFRESH-INTERVAL;VALUE=DURATION:PT1H
X-Robots-Tag:noindex
X-PUBLISHED-TTL:PT1H
BEGIN:VTIMEZONE
TZID:America/Denver
BEGIN:DAYLIGHT
TZOFFSETFROM:-0700
TZOFFSETTO:-0600
TZNAME:MDT
DTSTART:20240310T090000
END:DAYLIGHT
BEGIN:STANDARD
TZOFFSETFROM:-0600
TZOFFSETTO:-0700
TZNAME:MST
DTSTART:20241103T080000
END:STANDARD
BEGIN:DAYLIGHT
TZOFFSETFROM:-0700
TZOFFSETTO:-0600
TZNAME:MDT
DTSTART:20250309T090000
END:DAYLIGHT
BEGIN:STANDARD
TZOFFSETFROM:-0600
TZOFFSETTO:-0700
TZNAME:MST
DTSTART:20251102T080000
END:STANDARD
BEGIN:DAYLIGHT
TZOFFSETFROM:-0700
TZOFFSETTO:-0600
TZNAME:MDT
DTSTART:20260308T090000
END:DAYLIGHT
BEGIN:STANDARD
TZOFFSETFROM:-0600
TZOFFSETTO:-0700
TZNAME:MST
DTSTART:20261101T080000
END:STANDARD
END:VTIMEZONE
BEGIN:VEVENT
DTSTART;TZID=America/Denver:20250114T154500
DTEND;TZID=America/Denver:20250114T164500
DTSTAMP:20260424T010821
CREATED:20250110T155228Z
LAST-MODIFIED:20250110T155228Z
UID:12035-1736869500-1736873100@ortonk8.org
SUMMARY:Middle School Running Club
DESCRIPTION:Middle School Running Club Tuesdays 3:45-4:45 pm \nStudents should bring athletic wear to change into\, running shoes\, and a water bottle. \nEmail Ms. Sedoryk if you would like your student to join.
URL:https://ortonk8.org/event/middle-school-running-club/
CATEGORIES:All-School,Schedule Adjustments
END:VEVENT
BEGIN:VEVENT
DTSTART;TZID=America/Denver:20250116T154500
DTEND;TZID=America/Denver:20250116T164500
DTSTAMP:20260424T010821
CREATED:20250110T155347Z
LAST-MODIFIED:20250110T155347Z
UID:12038-1737042300-1737045900@ortonk8.org
SUMMARY:Elementary School Running Club
DESCRIPTION:Elementary School Running Club Thursdays 3:45-4:45 pm \nStudents should bring athletic wear to change into\, running shoes\, and a water bottle. \nEmail Ms. Sedoryk if you would like your student to join.
URL:https://ortonk8.org/event/elementary-school-running-club/
CATEGORIES:All-School,Schedule Adjustments
END:VEVENT
BEGIN:VEVENT
DTSTART;TZID=America/Denver:20250117T134500
DTEND;TZID=America/Denver:20250117T140000
DTSTAMP:20260424T010821
CREATED:20250109T202537Z
LAST-MODIFIED:20250109T202630Z
UID:12027-1737121500-1737122400@ortonk8.org
SUMMARY:Early Release Friday January17th\, 2025
DESCRIPTION:Reminder: Friday\, January 17th\, is an early release day.  Students will be dismissed at 1:45.  Please let the office know if you cannot pick up your child by 2:00.  Thank you!
URL:https://ortonk8.org/event/early-release-friday-january17th-2025/
CATEGORIES:All-School
END:VEVENT
BEGIN:VEVENT
DTSTART;VALUE=DATE:20250120
DTEND;VALUE=DATE:20250121
DTSTAMP:20260424T010821
CREATED:20250109T202911Z
LAST-MODIFIED:20250109T202911Z
UID:12029-1737331200-1737417599@ortonk8.org
SUMMARY:MLK Day\, No School January 20th
DESCRIPTION:The school will not be in session on Monday\, January 20th\, due to MLK Day.
URL:https://ortonk8.org/event/mlk-day-no-school-january-20th/
CATEGORIES:All-School,Schedule Adjustments
END:VEVENT
BEGIN:VEVENT
DTSTART;VALUE=DATE:20250124
DTEND;VALUE=DATE:20250125
DTSTAMP:20260424T010821
CREATED:20250110T170121Z
LAST-MODIFIED:20250110T170121Z
UID:12043-1737676800-1737763199@ortonk8.org
SUMMARY:Dress Like a Teacher Day January 24th
DESCRIPTION:Get ready for some fun and creativity because Friday\, January 24th is Dress Like an Orton Teacher Spirit Day! 🎉 \nHere’s the plan:\nStudents are encouraged to pick a teacher they admire and dress up as them. From stylish scarves to signature ties\, this is the day to celebrate our incredible staff in the most creative way possible! \n✨ Bonus: The student who best captures the essence of one of our fantastic Orton Academy teachers will win a fabulous prize! 🏆 \nLet’s see those creative outfits and celebrate the wonderful teachers who inspire our students daily. We can’t wait to see the halls filled with mini versions of our amazing staff! \nDress Like a Teacher Day
URL:https://ortonk8.org/event/dress-like-a-teacher-day-january-24th/
CATEGORIES:All-School,Schedule Adjustments
END:VEVENT
BEGIN:VEVENT
DTSTART;TZID=America/Denver:20250130T173000
DTEND;TZID=America/Denver:20250130T183000
DTSTAMP:20260424T010821
CREATED:20250110T164751Z
LAST-MODIFIED:20250110T164751Z
UID:12040-1738258200-1738261800@ortonk8.org
SUMMARY:Talent Show January 30th
DESCRIPTION:We are thrilled to announce our first-ever Talent Show on Thursday\, January 30th\, 2025\, at 5:30 PM\, and we can’t wait to see your talented students shine! 🌟 \nHere’s how your child can participate: \nEmail Ms. Sedoryk with the following details:\nStudent’s Name\nTalent\nLength of Performance\nPerformers should provide all necessary supplies for their act.\nA microphone will be available for use.\nEven if your child isn’t performing\, we’d love to see your family there to cheer on their classmates for an evening of fun and amazing talent! 🎶✨ \nWe can’t wait to see what incredible talents our Orton Owls bring to the stage! 🦉🎤 \nOrton Academy Talent Show
URL:https://ortonk8.org/event/talent-show-january-30th/
CATEGORIES:All-School,Schedule Adjustments
END:VEVENT
END:VCALENDAR