BEGIN:VCALENDAR
VERSION:2.0
PRODID:-//Orton Academy - ECPv6.15.20//NONSGML v1.0//EN
CALSCALE:GREGORIAN
METHOD:PUBLISH
X-ORIGINAL-URL:https://ortonk8.org
X-WR-CALDESC:Events for Orton Academy
REFRESH-INTERVAL;VALUE=DURATION:PT1H
X-Robots-Tag:noindex
X-PUBLISHED-TTL:PT1H
BEGIN:VTIMEZONE
TZID:America/Denver
BEGIN:DAYLIGHT
TZOFFSETFROM:-0700
TZOFFSETTO:-0600
TZNAME:MDT
DTSTART:20230312T090000
END:DAYLIGHT
BEGIN:STANDARD
TZOFFSETFROM:-0600
TZOFFSETTO:-0700
TZNAME:MST
DTSTART:20231105T080000
END:STANDARD
BEGIN:DAYLIGHT
TZOFFSETFROM:-0700
TZOFFSETTO:-0600
TZNAME:MDT
DTSTART:20240310T090000
END:DAYLIGHT
BEGIN:STANDARD
TZOFFSETFROM:-0600
TZOFFSETTO:-0700
TZNAME:MST
DTSTART:20241103T080000
END:STANDARD
BEGIN:DAYLIGHT
TZOFFSETFROM:-0700
TZOFFSETTO:-0600
TZNAME:MDT
DTSTART:20250309T090000
END:DAYLIGHT
BEGIN:STANDARD
TZOFFSETFROM:-0600
TZOFFSETTO:-0700
TZNAME:MST
DTSTART:20251102T080000
END:STANDARD
END:VTIMEZONE
BEGIN:VEVENT
DTSTART;TZID=America/Denver:20240702T181500
DTEND;TZID=America/Denver:20240702T190000
DTSTAMP:20260424T092617
CREATED:20240625T160449Z
LAST-MODIFIED:20240625T160539Z
UID:11991-1719944100-1719946800@ortonk8.org
SUMMARY:Information Night (virtual) - July 2 @ 6:15 p.m.
DESCRIPTION:Orton Academy online Information Night \nVirtual Information Night for Prospective New Families:  Orton Academy will host a virtual information night on Tuesday\, July 2 at 6:15 p.m. for anyone wanting to learn more about Orton Academy.  Please join our Zoom meeting by clicking here.
URL:https://ortonk8.org/event/information-night-virtual-july-2/
LOCATION:Online
CATEGORIES:2nd Grade,3rd Grade,4th Grade,5th Grade,6th Grade,7th Grade,8th Grade,All-School
END:VEVENT
BEGIN:VEVENT
DTSTART;TZID=America/Denver:20240709T181500
DTEND;TZID=America/Denver:20240709T190000
DTSTAMP:20260424T092617
CREATED:20240625T160630Z
LAST-MODIFIED:20240625T160630Z
UID:11994-1720548900-1720551600@ortonk8.org
SUMMARY:Information Night (virtual) - July 9 @ 6:15 p.m.
DESCRIPTION:Orton Academy online Information Night \nVirtual Information Night for Prospective New Families:  Orton Academy will host a virtual information night on Tuesday\, July 9 at 6:15 p.m. for anyone wanting to learn more about Orton Academy.  Please join our Zoom meeting by clicking here.
URL:https://ortonk8.org/event/information-night-virtual-july-9-615-p-m/
LOCATION:Online
CATEGORIES:2nd Grade,3rd Grade,4th Grade,5th Grade,6th Grade,7th Grade,8th Grade,All-School
END:VEVENT
BEGIN:VEVENT
DTSTART;TZID=America/Denver:20240723T181500
DTEND;TZID=America/Denver:20240723T190000
DTSTAMP:20260424T092617
CREATED:20240625T161205Z
LAST-MODIFIED:20240625T161226Z
UID:11996-1721758500-1721761200@ortonk8.org
SUMMARY:Information Night (virtual) - July 23 @ 6:15 p.m.
DESCRIPTION:Orton Academy online Information Night \nVirtual Information Night for Prospective New Families:  Orton Academy will host a virtual information night on Tuesday\, July 23 at 6:15 p.m. for anyone wanting to learn more about Orton Academy.  Please join our Zoom meeting by clicking here.
URL:https://ortonk8.org/event/information-night-virtual-july-23-615-p-m-2/
LOCATION:Online
CATEGORIES:2nd Grade,3rd Grade,4th Grade,5th Grade,6th Grade,7th Grade,8th Grade,All-School
ORGANIZER;CN="Orton Academy":MAILTO:info@ortonk8.org
END:VEVENT
BEGIN:VEVENT
DTSTART;TZID=America/Denver:20240730T181500
DTEND;TZID=America/Denver:20240730T190000
DTSTAMP:20260424T092617
CREATED:20240625T161304Z
LAST-MODIFIED:20240625T161316Z
UID:11998-1722363300-1722366000@ortonk8.org
SUMMARY:Information Night (virtual) - July 30 @ 6:15 p.m.
DESCRIPTION:Orton Academy online Information Night \nVirtual Information Night for Prospective New Families:  Orton Academy will host a virtual information night on Tuesday\, July 30 at 6:15 p.m. for anyone wanting to learn more about Orton Academy.  Please join our Zoom meeting by clicking here.
URL:https://ortonk8.org/event/information-night-virtual-july-30-615-p-m/
LOCATION:Online
CATEGORIES:2nd Grade,3rd Grade,4th Grade,5th Grade,6th Grade,7th Grade,8th Grade,All-School
ORGANIZER;CN="Orton Academy":MAILTO:info@ortonk8.org
END:VEVENT
END:VCALENDAR