BEGIN:VCALENDAR
VERSION:2.0
PRODID:-//Orton Academy - ECPv6.15.20//NONSGML v1.0//EN
CALSCALE:GREGORIAN
METHOD:PUBLISH
X-WR-CALNAME:Orton Academy
X-ORIGINAL-URL:https://ortonk8.org
X-WR-CALDESC:Events for Orton Academy
REFRESH-INTERVAL;VALUE=DURATION:PT1H
X-Robots-Tag:noindex
X-PUBLISHED-TTL:PT1H
BEGIN:VTIMEZONE
TZID:America/Denver
BEGIN:DAYLIGHT
TZOFFSETFROM:-0700
TZOFFSETTO:-0600
TZNAME:MDT
DTSTART:20220313T090000
END:DAYLIGHT
BEGIN:STANDARD
TZOFFSETFROM:-0600
TZOFFSETTO:-0700
TZNAME:MST
DTSTART:20221106T080000
END:STANDARD
BEGIN:DAYLIGHT
TZOFFSETFROM:-0700
TZOFFSETTO:-0600
TZNAME:MDT
DTSTART:20230312T090000
END:DAYLIGHT
BEGIN:STANDARD
TZOFFSETFROM:-0600
TZOFFSETTO:-0700
TZNAME:MST
DTSTART:20231105T080000
END:STANDARD
BEGIN:DAYLIGHT
TZOFFSETFROM:-0700
TZOFFSETTO:-0600
TZNAME:MDT
DTSTART:20240310T090000
END:DAYLIGHT
BEGIN:STANDARD
TZOFFSETFROM:-0600
TZOFFSETTO:-0700
TZNAME:MST
DTSTART:20241103T080000
END:STANDARD
END:VTIMEZONE
BEGIN:VEVENT
DTSTART;TZID=America/Denver:20230901T134500
DTEND;TZID=America/Denver:20230901T134500
DTSTAMP:20260424T212232
CREATED:20230717T211912Z
LAST-MODIFIED:20230829T142154Z
UID:11423-1693575900-1693575900@ortonk8.org
SUMMARY:Early Release Day
DESCRIPTION:
URL:https://ortonk8.org/event/early-release-day-2/
LOCATION:Orton Academy\, 3115 Larkspur Drive\, Colorado Springs\, 80907\, United States
CATEGORIES:All-School
ORGANIZER;CN="Orton Academy":MAILTO:info@ortonk8.org
END:VEVENT
BEGIN:VEVENT
DTSTART;TZID=America/Denver:20230905T183000
DTEND;TZID=America/Denver:20230905T193000
DTSTAMP:20260424T212232
CREATED:20230826T102858Z
LAST-MODIFIED:20230829T150152Z
UID:11511-1693938600-1693942200@ortonk8.org
SUMMARY:Information Night
DESCRIPTION:Join us for an Orton Academy Information Night to learn more about OA. You will learn about the following: \n\nWhy Orton Academy may be the right fit for your student(s)\nOur student-centered learning for students with Dyslexia\nOur variety of Dyslexia therapy programs\nAccommodations and Dyslexia-friendly instruction\nOur staff who are trained in appropriate instructional techniques for students with Dyslexia
URL:https://ortonk8.org/event/sept5/
LOCATION:Orton Academy\, 3115 Larkspur Drive\, Colorado Springs\, 80907\, United States
ATTACH;FMTTYPE=image/jpeg:https://ortonk8.org/wp-content/uploads/2023/08/Copy-of-Join-us-for-Information-Night.jpg
ORGANIZER;CN="Orton Academy":MAILTO:info@ortonk8.org
END:VEVENT
BEGIN:VEVENT
DTSTART;TZID=America/Denver:20230906T130000
DTEND;TZID=America/Denver:20230906T141500
DTSTAMP:20260424T212232
CREATED:20230826T095943Z
LAST-MODIFIED:20230825T235234Z
UID:11504-1694005200-1694009700@ortonk8.org
SUMMARY:Book Mobile
DESCRIPTION:The Book Mobile will be at Orton 1:00-2:15.
URL:https://ortonk8.org/event/book-mobile/
LOCATION:Orton Academy\, 3115 Larkspur Drive\, Colorado Springs\, 80907\, United States
CATEGORIES:All-School,Book Mobile
ORGANIZER;CN="Orton Academy":MAILTO:info@ortonk8.org
END:VEVENT
BEGIN:VEVENT
DTSTART;VALUE=DATE:20230908
DTEND;VALUE=DATE:20230909
DTSTAMP:20260424T212232
CREATED:20230803T205444Z
LAST-MODIFIED:20230829T142103Z
UID:11468-1694131200-1694217599@ortonk8.org
SUMMARY:Student Picture Day
DESCRIPTION:Get ready to smile! Picture day is on September 8th!\nPre-order today on mylifetouch.com with your Student ID or Picture Day ID: EVTWW374F \nClick here to download order form
URL:https://ortonk8.org/event/student-picture-day/
LOCATION:Orton Academy\, 3115 Larkspur Drive\, Colorado Springs\, 80907\, United States
CATEGORIES:All-School
ORGANIZER;CN="Orton Academy":MAILTO:info@ortonk8.org
END:VEVENT
BEGIN:VEVENT
DTSTART;TZID=America/Denver:20230915T134500
DTEND;TZID=America/Denver:20230915T134500
DTSTAMP:20260424T212232
CREATED:20230717T212002Z
LAST-MODIFIED:20230825T234635Z
UID:11425-1694785500-1694785500@ortonk8.org
SUMMARY:Early Release Day
DESCRIPTION:
URL:https://ortonk8.org/event/early-release-day-3/
LOCATION:Orton Academy\, 3115 Larkspur Drive\, Colorado Springs\, 80907\, United States
CATEGORIES:All-School
ORGANIZER;CN="Orton Academy":MAILTO:info@ortonk8.org
END:VEVENT
BEGIN:VEVENT
DTSTART;TZID=America/Denver:20230920T130000
DTEND;TZID=America/Denver:20230920T141500
DTSTAMP:20260424T212232
CREATED:20230826T100214Z
LAST-MODIFIED:20230825T235159Z
UID:11506-1695214800-1695219300@ortonk8.org
SUMMARY:Book Mobile
DESCRIPTION:The Book Mobile will be at Orton 1:00-2:15.
URL:https://ortonk8.org/event/book-mobile-2/
LOCATION:Orton Academy\, 3115 Larkspur Drive\, Colorado Springs\, 80907\, United States
CATEGORIES:All-School,Book Mobile
ORGANIZER;CN="Orton Academy":MAILTO:info@ortonk8.org
END:VEVENT
END:VCALENDAR