BEGIN:VCALENDAR
VERSION:2.0
PRODID:-//Orton Academy - ECPv6.15.20//NONSGML v1.0//EN
CALSCALE:GREGORIAN
METHOD:PUBLISH
X-WR-CALNAME:Orton Academy
X-ORIGINAL-URL:https://ortonk8.org
X-WR-CALDESC:Events for Orton Academy
REFRESH-INTERVAL;VALUE=DURATION:PT1H
X-Robots-Tag:noindex
X-PUBLISHED-TTL:PT1H
BEGIN:VTIMEZONE
TZID:America/Denver
BEGIN:DAYLIGHT
TZOFFSETFROM:-0700
TZOFFSETTO:-0600
TZNAME:MDT
DTSTART:20230312T090000
END:DAYLIGHT
BEGIN:STANDARD
TZOFFSETFROM:-0600
TZOFFSETTO:-0700
TZNAME:MST
DTSTART:20231105T080000
END:STANDARD
BEGIN:DAYLIGHT
TZOFFSETFROM:-0700
TZOFFSETTO:-0600
TZNAME:MDT
DTSTART:20240310T090000
END:DAYLIGHT
BEGIN:STANDARD
TZOFFSETFROM:-0600
TZOFFSETTO:-0700
TZNAME:MST
DTSTART:20241103T080000
END:STANDARD
BEGIN:DAYLIGHT
TZOFFSETFROM:-0700
TZOFFSETTO:-0600
TZNAME:MDT
DTSTART:20250309T090000
END:DAYLIGHT
BEGIN:STANDARD
TZOFFSETFROM:-0600
TZOFFSETTO:-0700
TZNAME:MST
DTSTART:20251102T080000
END:STANDARD
END:VTIMEZONE
BEGIN:VEVENT
DTSTART;TZID=America/Denver:20240625T181500
DTEND;TZID=America/Denver:20240625T190000
DTSTAMP:20260423T154129
CREATED:20240624T223815Z
LAST-MODIFIED:20240625T040822Z
UID:11985-1719339300-1719342000@ortonk8.org
SUMMARY:Information Night (virtual) - June 25 @ 6:15 p.m.
DESCRIPTION:Orton Academy online Information Night \nVirtual Information Night for Prospective New Families:  Orton Academy will host a virtual information night on Tuesday June 25th at 6:15 p.m. for anyone wanting to learn more about Orton Academy.  Please join our Zoom meeting by clicking here.
URL:https://ortonk8.org/event/information-night-virtual-june-25-615-p-m/
CATEGORIES:2nd Grade,3rd Grade,4th Grade,5th Grade,6th Grade,7th Grade,8th Grade,All-School
END:VEVENT
BEGIN:VEVENT
DTSTART;TZID=America/Denver:20240523T090000
DTEND;TZID=America/Denver:20240523T090000
DTSTAMP:20260423T154129
CREATED:20240522T171747Z
LAST-MODIFIED:20240625T040703Z
UID:11942-1716454800-1716454800@ortonk8.org
SUMMARY:Online Information Meeting
DESCRIPTION:Interested in learning more about Orton Academy?  Join us for an online information night on Thursday\, May 23rd at 6:15.  The meeting can be accessed through this link:  https://us06web.zoom.us/j/81747566659?pwd=aFZGOTlDdlRvb210ajBDSXljMlljUT09
URL:https://ortonk8.org/event/online-information-meeting-may-23/
LOCATION:Orton Academy\, 3115 Larkspur Drive\, Colorado Springs\, 80907\, United States
CATEGORIES:2nd Grade,3rd Grade,4th Grade,5th Grade,6th Grade,7th Grade,8th Grade,All-School,Celebrations
END:VEVENT
BEGIN:VEVENT
DTSTART;TZID=America/Denver:20240523T090000
DTEND;TZID=America/Denver:20240523T090000
DTSTAMP:20260423T154129
CREATED:20240513T003416Z
LAST-MODIFIED:20240513T003516Z
UID:11937-1716454800-1716454800@ortonk8.org
SUMMARY:Field Day and Pizza Picnic
DESCRIPTION:Orton will close out the school year with our annual Field Day festivities and Picnic.
URL:https://ortonk8.org/event/field-day/
LOCATION:Orton Academy\, 3115 Larkspur Drive\, Colorado Springs\, 80907\, United States
CATEGORIES:2nd Grade,3rd Grade,4th Grade,5th Grade,6th Grade,7th Grade,8th Grade,All-School,Celebrations
END:VEVENT
BEGIN:VEVENT
DTSTART;TZID=America/Denver:20240522T180000
DTEND;TZID=America/Denver:20240522T180000
DTSTAMP:20260423T154129
CREATED:20240513T003135Z
LAST-MODIFIED:20240513T003135Z
UID:11935-1716400800-1716400800@ortonk8.org
SUMMARY:Eighth Grade Promotion
DESCRIPTION:Join us for the Eighth Grade Promotion to celebrate the success of our graduates and to wish them well for their new chapter in high school.
URL:https://ortonk8.org/event/eighth-grade-promotion/
LOCATION:Orton Academy\, 3115 Larkspur Drive\, Colorado Springs\, 80907\, United States
CATEGORIES:2nd Grade,3rd Grade,4th Grade,5th Grade,6th Grade,7th Grade,8th Grade,All-School,Celebrations
END:VEVENT
BEGIN:VEVENT
DTSTART;TZID=America/Denver:20240522T150000
DTEND;TZID=America/Denver:20240522T154500
DTSTAMP:20260423T154129
CREATED:20240513T002737Z
LAST-MODIFIED:20240513T002737Z
UID:11933-1716390000-1716392700@ortonk8.org
SUMMARY:End of Year Awards Ceremony
DESCRIPTION:Join us for the End of the Year Awards ceremony to recognize our students’ hard work and achievements.
URL:https://ortonk8.org/event/end-of-year-awards/
LOCATION:Orton Academy\, 3115 Larkspur Drive\, Colorado Springs\, 80907\, United States
CATEGORIES:2nd Grade,3rd Grade,4th Grade,5th Grade,6th Grade,7th Grade,8th Grade,All-School,Celebrations
END:VEVENT
BEGIN:VEVENT
DTSTART;TZID=America/Denver:20240424T180000
DTEND;TZID=America/Denver:20240424T200000
DTSTAMP:20260423T154129
CREATED:20240417T211746Z
LAST-MODIFIED:20240417T211746Z
UID:11920-1713981600-1713988800@ortonk8.org
SUMMARY:Orton Academy Night at Skate City
DESCRIPTION:Skate party for Orton Academy students\, staff\, families and friends.  Please watch for flyer in your student’s backpack.
URL:https://ortonk8.org/event/orton-academy-night-at-skate-city-2/
LOCATION:Skate City\, 1920 N. Academy\, Colorado Springs
CATEGORIES:2nd Grade,3rd Grade,4th Grade,5th Grade,6th Grade,7th Grade,8th Grade,All-School,Celebrations
END:VEVENT
BEGIN:VEVENT
DTSTART;TZID=America/Denver:20240423T170000
DTEND;TZID=America/Denver:20240423T200000
DTSTAMP:20260423T154129
CREATED:20240411T030824Z
LAST-MODIFIED:20240411T030824Z
UID:11911-1713891600-1713902400@ortonk8.org
SUMMARY:Orton Night at Dion's April 23rd from 5-8pm
DESCRIPTION:Enjoy great food and support Orton Academy by dining with Dion’s on Tuesday\, April 23rd between 5:00 and 8:00 p.m.  A portion of all sales from that time period will be donated to Orton Academy.  Additionally\, the class who turns in the most flyers will win a Pizza Party from Dion’s!  Dion’s is located at the corner of Dublin and Powers.  Hope to see you there!
URL:https://ortonk8.org/event/dions-april-23/
CATEGORIES:2nd Grade,3rd Grade,4th Grade,5th Grade,6th Grade,7th Grade,8th Grade,All-School,Celebrations
END:VEVENT
BEGIN:VEVENT
DTSTART;TZID=America/Denver:20240419T134500
DTEND;TZID=America/Denver:20240419T140000
DTSTAMP:20260423T154129
CREATED:20240331T014922Z
LAST-MODIFIED:20240331T014922Z
UID:11905-1713534300-1713535200@ortonk8.org
SUMMARY:Early Release Friday April 19\, 2024
DESCRIPTION:Reminder: Friday\, April 19th is an early release day.  Students will be dismissed at 1:45.  If you cannot pick up your child by 2:00\, please let the office know.  Thank you!
URL:https://ortonk8.org/event/early-release-friday-april-19-2024-2/
CATEGORIES:All-School
END:VEVENT
BEGIN:VEVENT
DTSTART;TZID=America/Denver:20240418T181500
DTEND;TZID=America/Denver:20240418T190000
DTSTAMP:20260423T154129
CREATED:20240331T013219Z
LAST-MODIFIED:20240331T013736Z
UID:11896-1713464100-1713466800@ortonk8.org
SUMMARY:Information Night (virtual) - April 18 @ 6:15 p.m.
DESCRIPTION:Virtual Information Night for Prospective New Families:  Orton Academy will host a virtual information night on Tuesday April 18th at 6:15 p.m. for anyone wanting to learn more about Orton Academy.  Please join our Zoom meeting by clicking here.
URL:https://ortonk8.org/event/information-night-april-18-615-p-m/
CATEGORIES:2nd Grade,3rd Grade,4th Grade,5th Grade,6th Grade,7th Grade,8th Grade,All-School
END:VEVENT
BEGIN:VEVENT
DTSTART;TZID=America/Denver:20240408T190000
DTEND;TZID=America/Denver:20240408T200000
DTSTAMP:20260423T154129
CREATED:20240331T014458Z
LAST-MODIFIED:20240331T014458Z
UID:11901-1712602800-1712606400@ortonk8.org
SUMMARY:PROWL Meeting - April 8 @ 7:00 p.m.
DESCRIPTION:The Parents of Reading OWLS (PROWL) will be meeting virtually on Monday\, April 8th @ 7:00.  Please join the meeting by clicking here.
URL:https://ortonk8.org/event/prowl-meeting-april-8/
CATEGORIES:2nd Grade,3rd Grade,4th Grade,5th Grade,6th Grade,7th Grade,8th Grade,All-School
END:VEVENT
BEGIN:VEVENT
DTSTART;TZID=America/Denver:20240405T134500
DTEND;TZID=America/Denver:20240405T140000
DTSTAMP:20260423T154129
CREATED:20240331T014732Z
LAST-MODIFIED:20240331T014732Z
UID:11903-1712324700-1712325600@ortonk8.org
SUMMARY:Early Release Friday April 5\, 2024
DESCRIPTION:Reminder: Friday\, April 5th is an early release day.  Students will be dismissed at 1:45.  If you cannot pick up your child by 2:00\, please let the office know.  Thank you!
URL:https://ortonk8.org/event/early-release-friday-april-5-2024/
CATEGORIES:All-School
END:VEVENT
BEGIN:VEVENT
DTSTART;TZID=America/Denver:20240402T181500
DTEND;TZID=America/Denver:20240402T190000
DTSTAMP:20260423T154129
CREATED:20240331T011946Z
LAST-MODIFIED:20240331T013654Z
UID:11894-1712081700-1712084400@ortonk8.org
SUMMARY:Information Night (in-person) - April 2 @ 6:15 p.m.
DESCRIPTION:Information Night for Prospective New Families:  Orton Academy will host an information night on Tuesday April 2nd at 6:15 p.m. for anyone wanting to learn more about Orton Academy.  Orton Academy is located at 3115 Larkspur Drive\, Colorado Springs\, CO 80907.
URL:https://ortonk8.org/event/information-night-april-2-615-p-m-2/
CATEGORIES:2nd Grade,3rd Grade,4th Grade,5th Grade,6th Grade,7th Grade,8th Grade,All-School
END:VEVENT
BEGIN:VEVENT
DTSTART;VALUE=DATE:20240315
DTEND;VALUE=DATE:20240316
DTSTAMP:20260423T154129
CREATED:20240223T022358Z
LAST-MODIFIED:20240223T022358Z
UID:11878-1710460800-1710547199@ortonk8.org
SUMMARY:Parent Meeting - Special Programs
DESCRIPTION:Orton Academy’s Special Programs Department will be holding an online meeting for all parents of students in a special program:  Special Education/IEP\, Section 504\, Advanced Learning Plans\, and English Learning Plans.  The meeting will be held on Tuesday\, March 5\, 2024 at 6:00 p.m. via Google Meets.  Please use this link to attend:  https://meet.google.com/aat-ywai-mum
URL:https://ortonk8.org/event/parent-meeting-special-programs/
CATEGORIES:All-School,Schedule Adjustments
END:VEVENT
BEGIN:VEVENT
DTSTART;VALUE=DATE:20240315
DTEND;VALUE=DATE:20240316
DTSTAMP:20260423T154129
CREATED:20240205T184822Z
LAST-MODIFIED:20240205T184822Z
UID:11858-1710460800-1710547199@ortonk8.org
SUMMARY:Parent-Teacher Conferences - No School March 15th
DESCRIPTION:School will not be in session Friday March 15th due to Parent-Teacher Conferences.
URL:https://ortonk8.org/event/parent-teacher-conferences-no-school-march-15th/
CATEGORIES:All-School,Schedule Adjustments
END:VEVENT
BEGIN:VEVENT
DTSTART;TZID=America/Denver:20240314T163000
DTEND;TZID=America/Denver:20240315T160000
DTSTAMP:20260423T154129
CREATED:20240205T183732Z
LAST-MODIFIED:20240205T183732Z
UID:11856-1710433800-1710518400@ortonk8.org
SUMMARY:Spring Parent-Teacher Conferences March 14th and 15th
DESCRIPTION:Parent-Teacher Conferences will be held Thursday evening\, March 14th from 4:30 to 7:30 and Friday March 15th from 8:00 to 4:00.  Teachers will send out Calendly links to sign up for appointments. \nThere will be no school for students on Friday March 15th due to conferences.
URL:https://ortonk8.org/event/spring-parent-teacher-conferences-march-14th-and-15th/
CATEGORIES:All-School,Schedule Adjustments
END:VEVENT
BEGIN:VEVENT
DTSTART;VALUE=DATE:20240308
DTEND;VALUE=DATE:20240309
DTSTAMP:20260423T154129
CREATED:20240205T183131Z
LAST-MODIFIED:20240205T183206Z
UID:11854-1709856000-1709942399@ortonk8.org
SUMMARY:Third Quarter Data Day - No School March 8
DESCRIPTION:There will be no school on Friday March 8th so that teachers can have a data day to prepare for Parent-Teacher Conferences on March 14th and 15th.
URL:https://ortonk8.org/event/third-quarter-data-day-no-school-march-8/
CATEGORIES:All-School,Schedule Adjustments
END:VEVENT
BEGIN:VEVENT
DTSTART;TZID=America/Denver:20240307T181500
DTEND;TZID=America/Denver:20240307T190000
DTSTAMP:20260423T154129
CREATED:20240301T174241Z
LAST-MODIFIED:20240301T174241Z
UID:11885-1709835300-1709838000@ortonk8.org
SUMMARY:Information Night - March 7 @ 6:15 p.m.
DESCRIPTION:Information Night for Prospective New Families:  Orton Academy will host an information night on Thursday March 7th at 6:15 p.m. for anyone wanting to learn more about Orton Academy.  Orton Academy is located at 3115 Larkspur Drive\, Colorado Springs\, CO 80907.
URL:https://ortonk8.org/event/information-night-march-7-615-p-m/
CATEGORIES:2nd Grade,3rd Grade,4th Grade,5th Grade,6th Grade,7th Grade,8th Grade,All-School
END:VEVENT
BEGIN:VEVENT
DTSTART;VALUE=DATE:20240307
DTEND;VALUE=DATE:20240308
DTSTAMP:20260423T154129
CREATED:20240205T182428Z
LAST-MODIFIED:20240205T182428Z
UID:11847-1709769600-1709855999@ortonk8.org
SUMMARY:End of Third Quarter
DESCRIPTION:Third Quarter ends Thursday March 7th.
URL:https://ortonk8.org/event/end-of-third-quarter/
CATEGORIES:All-School
END:VEVENT
BEGIN:VEVENT
DTSTART;TZID=America/Denver:20240301T134500
DTEND;TZID=America/Denver:20240301T140000
DTSTAMP:20260423T154129
CREATED:20240205T182057Z
LAST-MODIFIED:20240205T182524Z
UID:11841-1709300700-1709301600@ortonk8.org
SUMMARY:Early Release Friday March 1st\, 2024
DESCRIPTION:Reminder: Friday\, March 1st is an early release day.  Students will be dismissed at 1:45.  If you cannot pick up your child by 2:00\, please let the office know.  Thank you!
URL:https://ortonk8.org/event/early-release-friday-february-16-2024-2/
CATEGORIES:All-School
END:VEVENT
BEGIN:VEVENT
DTSTART;TZID=America/Denver:20240221T130000
DTEND;TZID=America/Denver:20240221T141500
DTSTAMP:20260423T154129
CREATED:20240205T182315Z
LAST-MODIFIED:20240205T182315Z
UID:11845-1708520400-1708524900@ortonk8.org
SUMMARY:Book Mobile
DESCRIPTION:The book mobile with be at Orton Academy on February 21st from 1:00 to 2:15.
URL:https://ortonk8.org/event/book-mobile-8/
LOCATION:Orton Academy\, 3115 Larkspur Drive\, Colorado Springs\, 80907\, United States
END:VEVENT
BEGIN:VEVENT
DTSTART;VALUE=DATE:20240219
DTEND;VALUE=DATE:20240220
DTSTAMP:20260423T154129
CREATED:20240205T182224Z
LAST-MODIFIED:20240205T182224Z
UID:11843-1708300800-1708387199@ortonk8.org
SUMMARY:Presidents Day - No School
DESCRIPTION:School will not be in session Monday February 19th\, in observance of Presidents Day.
URL:https://ortonk8.org/event/presidents-day-no-school/
CATEGORIES:All-School,Schedule Adjustments
END:VEVENT
BEGIN:VEVENT
DTSTART;TZID=America/Denver:20240216T134500
DTEND;TZID=America/Denver:20240216T140000
DTSTAMP:20260423T154129
CREATED:20240205T181606Z
LAST-MODIFIED:20240205T181606Z
UID:11837-1708091100-1708092000@ortonk8.org
SUMMARY:Early Release Friday February 16\, 2024
DESCRIPTION:Reminder: Friday\, February 16th is an early release day.  Students will be dismissed at 1:45.  If you cannot pick up your child by 2:00\, please let the office know.  Thank you!
URL:https://ortonk8.org/event/early-release-friday-february-16-2024/
CATEGORIES:All-School
END:VEVENT
BEGIN:VEVENT
DTSTART;TZID=America/Denver:20240212T180000
DTEND;TZID=America/Denver:20240212T193000
DTSTAMP:20260423T154129
CREATED:20240205T182858Z
LAST-MODIFIED:20240205T182858Z
UID:11852-1707760800-1707766200@ortonk8.org
SUMMARY:PROWL Meeting - In Person
DESCRIPTION:Orton’s Parent Group – Parents of Reading Owls (PROWL) will be meeting in person on February 12th\, 6:00 p.m. at Torchy’s Tacos on Powers Blvd.  Please join us and learn how you can become involved!
URL:https://ortonk8.org/event/prowl-meeting-in-person/
CATEGORIES:All-School
END:VEVENT
BEGIN:VEVENT
DTSTART;TZID=America/Denver:20240207T130000
DTEND;TZID=America/Denver:20240207T141500
DTSTAMP:20260423T154129
CREATED:20240205T181936Z
LAST-MODIFIED:20240205T181936Z
UID:11839-1707310800-1707315300@ortonk8.org
SUMMARY:Book Mobile
DESCRIPTION:The book mobile with be at Orton Academy on February 7th  from 1:00 to 2:15.
URL:https://ortonk8.org/event/book-mobile-7/
LOCATION:Orton Academy\, 3115 Larkspur Drive\, Colorado Springs\, 80907\, United States
END:VEVENT
BEGIN:VEVENT
DTSTART;TZID=America/Denver:20240206T181500
DTEND;TZID=America/Denver:20240206T190000
DTSTAMP:20260423T154129
CREATED:20240205T180447Z
LAST-MODIFIED:20240205T180651Z
UID:11834-1707243300-1707246000@ortonk8.org
SUMMARY:Information Night - February 6 @ 6:15 p.m.
DESCRIPTION:Information Night for Prospective New Families:  Orton Academy will host an information night on Tuesday\, February 6th at 6:15 p.m. for anyone wanting to learn more about Orton Academy.  Orton Academy is located at 3115 Larkspur Drive\, Colorado Springs\, CO 80907.
URL:https://ortonk8.org/event/early-release-friday-february-2-2024-2/
CATEGORIES:2nd Grade,3rd Grade,4th Grade,5th Grade,6th Grade,7th Grade,8th Grade,All-School
END:VEVENT
BEGIN:VEVENT
DTSTART;TZID=America/Denver:20240206T170000
DTEND;TZID=America/Denver:20240206T180000
DTSTAMP:20260423T154129
CREATED:20240205T182620Z
LAST-MODIFIED:20240205T182620Z
UID:11850-1707238800-1707242400@ortonk8.org
SUMMARY:OA Board Meeting
DESCRIPTION:Orton Academy Board Meeting. Join by zoom.
URL:https://ortonk8.org/event/oa-board-meeting/
LOCATION:Orton Academy\, 3115 Larkspur Drive\, Colorado Springs\, 80907\, United States
CATEGORIES:All-School,Book Mobile
ORGANIZER;CN="Orton Academy":MAILTO:info@ortonk8.org
END:VEVENT
BEGIN:VEVENT
DTSTART;TZID=America/Denver:20240202T134500
DTEND;TZID=America/Denver:20240202T140000
DTSTAMP:20260423T154129
CREATED:20240123T035349Z
LAST-MODIFIED:20240123T035349Z
UID:11823-1706881500-1706882400@ortonk8.org
SUMMARY:Early Release Friday February 2\, 2024
DESCRIPTION:Reminder: Friday\, February 2nd is an early release day.  Students will be dismissed at 1:45.  If you cannot pick up your child by 2:00\, please let the office know.  Thank you!
URL:https://ortonk8.org/event/early-release-friday-february-2-2024/
CATEGORIES:All-School
END:VEVENT
BEGIN:VEVENT
DTSTART;TZID=America/Denver:20240124T130000
DTEND;TZID=America/Denver:20240124T141500
DTSTAMP:20260423T154129
CREATED:20240123T035107Z
LAST-MODIFIED:20240123T035451Z
UID:11821-1706101200-1706105700@ortonk8.org
SUMMARY:Book Mobile
DESCRIPTION:The book mobile with be at Orton Academy on January 24th from 1:00 to 2:15.
URL:https://ortonk8.org/event/book-mobile-6/
LOCATION:Orton Academy\, 3115 Larkspur Drive\, Colorado Springs\, 80907\, United States
END:VEVENT
BEGIN:VEVENT
DTSTART;TZID=America/Denver:20240119T134500
DTEND;TZID=America/Denver:20240119T134500
DTSTAMP:20260423T154129
CREATED:20240114T160537Z
LAST-MODIFIED:20240114T160809Z
UID:11802-1705671900-1705671900@ortonk8.org
SUMMARY:Early Release Friday January 19\, 2024
DESCRIPTION:Reminder: This Friday\, January 19th is an early release day.  Students will be dismissed at 1:45.  If you cannot pick up your child by 2:00\, please let the office know.  Thank you!
URL:https://ortonk8.org/event/early-release-friday-january-19-2024-2/
CATEGORIES:All-School
END:VEVENT
BEGIN:VEVENT
DTSTART;TZID=America/Denver:20240115T080000
DTEND;TZID=America/Denver:20240115T170000
DTSTAMP:20260423T154129
CREATED:20240114T161221Z
LAST-MODIFIED:20240114T161221Z
UID:11804-1705305600-1705338000@ortonk8.org
SUMMARY:MLK Day - No School
DESCRIPTION:School will not be in session Monday January 15th\, in observance of Martin Luther King Day.
URL:https://ortonk8.org/event/mlk-day-no-school/
CATEGORIES:All-School,Schedule Adjustments
END:VEVENT
END:VCALENDAR