BEGIN:VCALENDAR
VERSION:2.0
PRODID:-//Orton Academy - ECPv6.15.20//NONSGML v1.0//EN
CALSCALE:GREGORIAN
METHOD:PUBLISH
X-ORIGINAL-URL:https://ortonk8.org
X-WR-CALDESC:Events for Orton Academy
REFRESH-INTERVAL;VALUE=DURATION:PT1H
X-Robots-Tag:noindex
X-PUBLISHED-TTL:PT1H
BEGIN:VTIMEZONE
TZID:America/Denver
BEGIN:DAYLIGHT
TZOFFSETFROM:-0700
TZOFFSETTO:-0600
TZNAME:MDT
DTSTART:20240310T090000
END:DAYLIGHT
BEGIN:STANDARD
TZOFFSETFROM:-0600
TZOFFSETTO:-0700
TZNAME:MST
DTSTART:20241103T080000
END:STANDARD
BEGIN:DAYLIGHT
TZOFFSETFROM:-0700
TZOFFSETTO:-0600
TZNAME:MDT
DTSTART:20250309T090000
END:DAYLIGHT
BEGIN:STANDARD
TZOFFSETFROM:-0600
TZOFFSETTO:-0700
TZNAME:MST
DTSTART:20251102T080000
END:STANDARD
BEGIN:DAYLIGHT
TZOFFSETFROM:-0700
TZOFFSETTO:-0600
TZNAME:MDT
DTSTART:20260308T090000
END:DAYLIGHT
BEGIN:STANDARD
TZOFFSETFROM:-0600
TZOFFSETTO:-0700
TZNAME:MST
DTSTART:20261101T080000
END:STANDARD
BEGIN:DAYLIGHT
TZOFFSETFROM:-0700
TZOFFSETTO:-0600
TZNAME:MDT
DTSTART:20270314T090000
END:DAYLIGHT
BEGIN:STANDARD
TZOFFSETFROM:-0600
TZOFFSETTO:-0700
TZNAME:MST
DTSTART:20271107T080000
END:STANDARD
END:VTIMEZONE
BEGIN:VEVENT
DTSTART;VALUE=DATE:20251007
DTEND;VALUE=DATE:20251031
DTSTAMP:20260423T173658
CREATED:20251007T144126Z
LAST-MODIFIED:20251007T144126Z
UID:12249-1759795200-1761868799@ortonk8.org
SUMMARY:SQUASH the Competition - Pumpkin Carving Contest
DESCRIPTION:Contest Guidelines & Important Dates\n  \n\n\nThe Mission: Decorate a pumpkin to look like a completely different object\, animal\, or character!\nNo Carving\, Please! To ensure everyone’s masterpiece lasts until the judging day\, we strongly encourage students not to cut into or carve their pumpkins. Decoration should be done on the surface with paint\, glue\, markers\, accessories\, etc.\nSubmission Deadline: The last day to bring in a decorated pumpkin is Thursday\, October 30th.\nDisplay Location: All the amazing creations will be proudly displayed in front of the office for everyone to admire.\n\nJudging & Prize\n  \n\n\nVoting Day: On Friday\, October 31st\, students will get to vote for the “Coolest Pumpkin” in a student-only poll.\nThe Prize: The student with the most votes will win a special prize on Halloween!\n\nA Note on Pickup: All pumpkins must be taken home at the end of the school day on Friday\, October 31st. Please make arrangements to have your student collect their artwork that day. \nWe can’t wait to see the incredible\, “un-pumpkin-like” creations! This is a wonderful family project to get everyone in the festive spirit.
URL:https://ortonk8.org/event/squash-the-competition-pumpkin-carving-contest/
END:VEVENT
BEGIN:VEVENT
DTSTART;TZID=America/Denver:20251021T134500
DTEND;TZID=America/Denver:20251021T154500
DTSTAMP:20260423T173658
CREATED:20251007T144849Z
LAST-MODIFIED:20251007T144858Z
UID:12257-1761054300-1761061500@ortonk8.org
SUMMARY:Early Release
DESCRIPTION:Students are dismissed at 1:45pm
URL:https://ortonk8.org/event/early-release-5/
END:VEVENT
BEGIN:VEVENT
DTSTART;VALUE=DATE:20251023
DTEND;VALUE=DATE:20251024
DTSTAMP:20260423T173658
CREATED:20251007T144447Z
LAST-MODIFIED:20251007T144447Z
UID:12251-1761177600-1761263999@ortonk8.org
SUMMARY:Parent-Teacher Conferences - No Students
DESCRIPTION:Parent-Teacher Conferences.  Conferences are by appointment.  Please reach out to your student’s teacher for scheduling options.
URL:https://ortonk8.org/event/parent-teacher-conferences-no-students/
END:VEVENT
BEGIN:VEVENT
DTSTART;VALUE=DATE:20251024
DTEND;VALUE=DATE:20251025
DTSTAMP:20260423T173658
CREATED:20251007T144548Z
LAST-MODIFIED:20251007T144548Z
UID:12253-1761264000-1761350399@ortonk8.org
SUMMARY:NO SCHOOL
DESCRIPTION:No school for students or staff. \nEnjoy the long FALL weekend!
URL:https://ortonk8.org/event/no-school/
END:VEVENT
BEGIN:VEVENT
DTSTART;TZID=America/Denver:20251107T134500
DTEND;TZID=America/Denver:20251107T154500
DTSTAMP:20260423T173658
CREATED:20251007T144712Z
LAST-MODIFIED:20251007T144725Z
UID:12255-1762523100-1762530300@ortonk8.org
SUMMARY:Early Release
DESCRIPTION:School is dismissed at 1:45pm
URL:https://ortonk8.org/event/early-release-4/
END:VEVENT
BEGIN:VEVENT
DTSTART;TZID=America/Denver:20251121T134500
DTEND;TZID=America/Denver:20251121T154500
DTSTAMP:20260423T173658
CREATED:20251007T145844Z
LAST-MODIFIED:20251007T145851Z
UID:12261-1763732700-1763739900@ortonk8.org
SUMMARY:Early Release
DESCRIPTION:Students are dismissed at 1:45pm
URL:https://ortonk8.org/event/early-release-7/
END:VEVENT
BEGIN:VEVENT
DTSTART;VALUE=DATE:20251124
DTEND;VALUE=DATE:20251129
DTSTAMP:20260423T173658
CREATED:20251007T150420Z
LAST-MODIFIED:20251121T175251Z
UID:12267-1763942400-1764374399@ortonk8.org
SUMMARY:Thanksgiving Break - No students/Administration
DESCRIPTION:Thanksgiving Break will be from Monday\, November 24 – 28\, 2025.  Don’t forget Friday\, November 21st is an Early Release day… \nHave a great Thanksgiving! \n 
URL:https://ortonk8.org/event/thanksgiving-break/
END:VEVENT
BEGIN:VEVENT
DTSTART;TZID=America/Denver:20251205T134500
DTEND;TZID=America/Denver:20251205T154500
DTSTAMP:20260423T173658
CREATED:20251007T144949Z
LAST-MODIFIED:20251007T145756Z
UID:12259-1764942300-1764949500@ortonk8.org
SUMMARY:Early Release
DESCRIPTION:Students are dismissed at 1:45pm
URL:https://ortonk8.org/event/early-release-6/
END:VEVENT
BEGIN:VEVENT
DTSTART;VALUE=DATE:20251219
DTEND;VALUE=DATE:20251220
DTSTAMP:20260423T173658
CREATED:20251007T145952Z
LAST-MODIFIED:20251007T145959Z
UID:12263-1766102400-1766188799@ortonk8.org
SUMMARY:End of Q2
DESCRIPTION:
URL:https://ortonk8.org/event/end-of-q2/
END:VEVENT
BEGIN:VEVENT
DTSTART;VALUE=DATE:20251222
DTEND;VALUE=DATE:20260108
DTSTAMP:20260423T173658
CREATED:20251007T150218Z
LAST-MODIFIED:20251007T150225Z
UID:12265-1766361600-1767830399@ortonk8.org
SUMMARY:Winter Break
DESCRIPTION:Winter Break will be Monday\, December 22\, 2025 – Wednesday\, January 7\, 2026 \nALL students back in the classroom on Thursday\, January 8\, 2026\, @ 8:00 am. \nHAVE A GREAT HOLIDAY! \n 
URL:https://ortonk8.org/event/winter-break/
END:VEVENT
BEGIN:VEVENT
DTSTART;TZID=America/Denver:20260410T080000
DTEND;TZID=America/Denver:20260410T134500
DTSTAMP:20260423T173658
CREATED:20260401T203721Z
LAST-MODIFIED:20260401T203721Z
UID:12322-1775808000-1775828700@ortonk8.org
SUMMARY:Early Release at 1:45pm
DESCRIPTION:
URL:https://ortonk8.org/event/early-release-at-145pm/
END:VEVENT
BEGIN:VEVENT
DTSTART;TZID=America/Denver:20260424T080000
DTEND;TZID=America/Denver:20260424T134500
DTSTAMP:20260423T173658
CREATED:20260401T203754Z
LAST-MODIFIED:20260401T203754Z
UID:12324-1777017600-1777038300@ortonk8.org
SUMMARY:Early Release at 1:45pm
DESCRIPTION:
URL:https://ortonk8.org/event/early-release-at-145pm-2/
END:VEVENT
BEGIN:VEVENT
DTSTART;TZID=America/Denver:20260508T080000
DTEND;TZID=America/Denver:20260508T134500
DTSTAMP:20260423T173658
CREATED:20260401T203815Z
LAST-MODIFIED:20260401T203815Z
UID:12326-1778227200-1778247900@ortonk8.org
SUMMARY:Early Release at 1:45pm
DESCRIPTION:
URL:https://ortonk8.org/event/early-release-at-145pm-3/
END:VEVENT
BEGIN:VEVENT
DTSTART;TZID=America/Denver:20260515T180000
DTEND;TZID=America/Denver:20260515T190000
DTSTAMP:20260423T173658
CREATED:20260401T214928Z
LAST-MODIFIED:20260401T215015Z
UID:12328-1778868000-1778871600@ortonk8.org
SUMMARY:8th Grade Graduation
DESCRIPTION:
URL:https://ortonk8.org/event/8th-grade-graduation/
END:VEVENT
END:VCALENDAR