BEGIN:VCALENDAR
VERSION:2.0
PRODID:-//Orton Academy - ECPv6.15.20//NONSGML v1.0//EN
CALSCALE:GREGORIAN
METHOD:PUBLISH
X-ORIGINAL-URL:https://ortonk8.org
X-WR-CALDESC:Events for Orton Academy
REFRESH-INTERVAL;VALUE=DURATION:PT1H
X-Robots-Tag:noindex
X-PUBLISHED-TTL:PT1H
BEGIN:VTIMEZONE
TZID:America/Denver
BEGIN:DAYLIGHT
TZOFFSETFROM:-0700
TZOFFSETTO:-0600
TZNAME:MDT
DTSTART:20220313T090000
END:DAYLIGHT
BEGIN:STANDARD
TZOFFSETFROM:-0600
TZOFFSETTO:-0700
TZNAME:MST
DTSTART:20221106T080000
END:STANDARD
BEGIN:DAYLIGHT
TZOFFSETFROM:-0700
TZOFFSETTO:-0600
TZNAME:MDT
DTSTART:20230312T090000
END:DAYLIGHT
BEGIN:STANDARD
TZOFFSETFROM:-0600
TZOFFSETTO:-0700
TZNAME:MST
DTSTART:20231105T080000
END:STANDARD
BEGIN:DAYLIGHT
TZOFFSETFROM:-0700
TZOFFSETTO:-0600
TZNAME:MDT
DTSTART:20240310T090000
END:DAYLIGHT
BEGIN:STANDARD
TZOFFSETFROM:-0600
TZOFFSETTO:-0700
TZNAME:MST
DTSTART:20241103T080000
END:STANDARD
END:VTIMEZONE
BEGIN:VEVENT
DTSTART;TZID=America/Denver:20230906T130000
DTEND;TZID=America/Denver:20230906T141500
DTSTAMP:20260423T184801
CREATED:20230826T095943Z
LAST-MODIFIED:20230825T235234Z
UID:11504-1694005200-1694009700@ortonk8.org
SUMMARY:Book Mobile
DESCRIPTION:The Book Mobile will be at Orton 1:00-2:15.
URL:https://ortonk8.org/event/book-mobile/
LOCATION:Orton Academy\, 3115 Larkspur Drive\, Colorado Springs\, 80907\, United States
CATEGORIES:All-School,Book Mobile
ORGANIZER;CN="Orton Academy":MAILTO:info@ortonk8.org
END:VEVENT
BEGIN:VEVENT
DTSTART;TZID=America/Denver:20230901T134500
DTEND;TZID=America/Denver:20230901T134500
DTSTAMP:20260423T184801
CREATED:20230717T211912Z
LAST-MODIFIED:20230829T142154Z
UID:11423-1693575900-1693575900@ortonk8.org
SUMMARY:Early Release Day
DESCRIPTION:
URL:https://ortonk8.org/event/early-release-day-2/
LOCATION:Orton Academy\, 3115 Larkspur Drive\, Colorado Springs\, 80907\, United States
CATEGORIES:All-School
ORGANIZER;CN="Orton Academy":MAILTO:info@ortonk8.org
END:VEVENT
BEGIN:VEVENT
DTSTART;VALUE=DATE:20230816
DTEND;VALUE=DATE:20230818
DTSTAMP:20260423T184801
CREATED:20230717T211459Z
LAST-MODIFIED:20230825T234654Z
UID:11414-1692208800-1692295199@ortonk8.org
SUMMARY:First Day of School
DESCRIPTION:
URL:https://ortonk8.org/event/first-day-of-school/
LOCATION:Orton Academy\, 3115 Larkspur Drive\, Colorado Springs\, 80907\, United States
CATEGORIES:All-School
ORGANIZER;CN="Orton Academy":MAILTO:info@ortonk8.org
END:VEVENT
BEGIN:VEVENT
DTSTART;TZID=America/Denver:20230815T050000
DTEND;TZID=America/Denver:20230815T070000
DTSTAMP:20260423T184801
CREATED:20230802T202919Z
LAST-MODIFIED:20230815T015638Z
UID:11440-1692075600-1692082800@ortonk8.org
SUMMARY:Open House
DESCRIPTION:Current Orton K-8 families\, please join us for our Open House on Tuesday\, August 15 from 6-8pm! Students and parents are encouraged to attend. No RSVP is necessary.
URL:https://ortonk8.org/event/open-house/
LOCATION:Orton Academy\, 3115 Larkspur Drive\, Colorado Springs\, 80907\, United States
CATEGORIES:All-School
ORGANIZER;CN="Orton Academy":MAILTO:info@ortonk8.org
END:VEVENT
BEGIN:VEVENT
DTSTART;VALUE=DATE:20230810
DTEND;VALUE=DATE:20230812
DTSTAMP:20260423T184801
CREATED:20230717T211719Z
LAST-MODIFIED:20230717T211719Z
UID:11421-1691690400-1691776799@ortonk8.org
SUMMARY:Assessment Day (by appointment)
DESCRIPTION:
URL:https://ortonk8.org/event/assessment-day-by-appointment-2/
LOCATION:Orton Academy\, 3115 Larkspur Drive\, Colorado Springs\, 80907\, United States
CATEGORIES:All-School
ORGANIZER;CN="Orton Academy":MAILTO:info@ortonk8.org
END:VEVENT
BEGIN:VEVENT
DTSTART;VALUE=DATE:20230809
DTEND;VALUE=DATE:20230811
DTSTAMP:20260423T184801
CREATED:20230717T211655Z
LAST-MODIFIED:20230717T211752Z
UID:11419-1691604000-1691690399@ortonk8.org
SUMMARY:Assessment Day (by appointment)
DESCRIPTION:
URL:https://ortonk8.org/event/assessment-day-by-appointment/
LOCATION:Orton Academy\, 3115 Larkspur Drive\, Colorado Springs\, 80907\, United States
CATEGORIES:All-School
ORGANIZER;CN="Orton Academy":MAILTO:info@ortonk8.org
END:VEVENT
BEGIN:VEVENT
DTSTART;VALUE=DATE:20230808
DTEND;VALUE=DATE:20230810
DTSTAMP:20260423T184801
CREATED:20230717T211610Z
LAST-MODIFIED:20230717T211629Z
UID:11416-1691517600-1691603999@ortonk8.org
SUMMARY:Assessment Day (by appointment)
DESCRIPTION:
URL:https://ortonk8.org/event/assessment-days-by-appointment/
LOCATION:Orton Academy\, 3115 Larkspur Drive\, Colorado Springs\, 80907\, United States
CATEGORIES:All-School
ORGANIZER;CN="Orton Academy":MAILTO:info@ortonk8.org
END:VEVENT
BEGIN:VEVENT
DTSTART;VALUE=DATE:20230523
DTEND;VALUE=DATE:20230525
DTSTAMP:20260423T184801
CREATED:20230508T023315Z
LAST-MODIFIED:20230802T203620Z
UID:11345-1684864800-1684951199@ortonk8.org
SUMMARY:Field Day & Last Day of School
DESCRIPTION:Please join us for field day and the final day of school. Join us for a cook out at 9:00am.
URL:https://ortonk8.org/event/finalday/
LOCATION:Orton Academy\, 3115 Larkspur Drive\, Colorado Springs\, 80907\, United States
CATEGORIES:All-School,Celebrations
ORGANIZER;CN="Orton Academy":MAILTO:info@ortonk8.org
END:VEVENT
BEGIN:VEVENT
DTSTART;TZID=America/Denver:20230523T083000
DTEND;TZID=America/Denver:20230623T093000
DTSTAMP:20260423T184801
CREATED:20230508T022932Z
LAST-MODIFIED:20230508T022954Z
UID:11341-1684830600-1687512600@ortonk8.org
SUMMARY:Fifth Grade Stepping Up/ All School Awards
DESCRIPTION:Please join us for Fifth Grade Stepping Up/All School Awards beginning at 2:30pm
URL:https://ortonk8.org/event/fifth-grade-stepping-up-all-school-awards/
LOCATION:Orton Academy\, 3115 Larkspur Drive\, Colorado Springs\, 80907\, United States
CATEGORIES:5th Grade,All-School,Celebrations
ORGANIZER;CN="Orton Academy":MAILTO:info@ortonk8.org
END:VEVENT
END:VCALENDAR