BEGIN:VCALENDAR
VERSION:2.0
PRODID:-//Orton Academy - ECPv6.15.20//NONSGML v1.0//EN
CALSCALE:GREGORIAN
METHOD:PUBLISH
X-ORIGINAL-URL:https://ortonk8.org
X-WR-CALDESC:Events for Orton Academy
REFRESH-INTERVAL;VALUE=DURATION:PT1H
X-Robots-Tag:noindex
X-PUBLISHED-TTL:PT1H
BEGIN:VTIMEZONE
TZID:America/Denver
BEGIN:DAYLIGHT
TZOFFSETFROM:-0700
TZOFFSETTO:-0600
TZNAME:MDT
DTSTART:20230312T090000
END:DAYLIGHT
BEGIN:STANDARD
TZOFFSETFROM:-0600
TZOFFSETTO:-0700
TZNAME:MST
DTSTART:20231105T080000
END:STANDARD
BEGIN:DAYLIGHT
TZOFFSETFROM:-0700
TZOFFSETTO:-0600
TZNAME:MDT
DTSTART:20240310T090000
END:DAYLIGHT
BEGIN:STANDARD
TZOFFSETFROM:-0600
TZOFFSETTO:-0700
TZNAME:MST
DTSTART:20241103T080000
END:STANDARD
BEGIN:DAYLIGHT
TZOFFSETFROM:-0700
TZOFFSETTO:-0600
TZNAME:MDT
DTSTART:20250309T090000
END:DAYLIGHT
BEGIN:STANDARD
TZOFFSETFROM:-0600
TZOFFSETTO:-0700
TZNAME:MST
DTSTART:20251102T080000
END:STANDARD
END:VTIMEZONE
BEGIN:VEVENT
DTSTART;TZID=America/Denver:20240314T163000
DTEND;TZID=America/Denver:20240315T160000
DTSTAMP:20260424T153043
CREATED:20240205T183732Z
LAST-MODIFIED:20240205T183732Z
UID:11856-1710433800-1710518400@ortonk8.org
SUMMARY:Spring Parent-Teacher Conferences March 14th and 15th
DESCRIPTION:Parent-Teacher Conferences will be held Thursday evening\, March 14th from 4:30 to 7:30 and Friday March 15th from 8:00 to 4:00.  Teachers will send out Calendly links to sign up for appointments. \nThere will be no school for students on Friday March 15th due to conferences.
URL:https://ortonk8.org/event/spring-parent-teacher-conferences-march-14th-and-15th/
CATEGORIES:All-School,Schedule Adjustments
END:VEVENT
BEGIN:VEVENT
DTSTART;VALUE=DATE:20240315
DTEND;VALUE=DATE:20240316
DTSTAMP:20260424T153043
CREATED:20240205T184822Z
LAST-MODIFIED:20240205T184822Z
UID:11858-1710460800-1710547199@ortonk8.org
SUMMARY:Parent-Teacher Conferences - No School March 15th
DESCRIPTION:School will not be in session Friday March 15th due to Parent-Teacher Conferences.
URL:https://ortonk8.org/event/parent-teacher-conferences-no-school-march-15th/
CATEGORIES:All-School,Schedule Adjustments
END:VEVENT
BEGIN:VEVENT
DTSTART;VALUE=DATE:20240315
DTEND;VALUE=DATE:20240316
DTSTAMP:20260424T153043
CREATED:20240223T022358Z
LAST-MODIFIED:20240223T022358Z
UID:11878-1710460800-1710547199@ortonk8.org
SUMMARY:Parent Meeting - Special Programs
DESCRIPTION:Orton Academy’s Special Programs Department will be holding an online meeting for all parents of students in a special program:  Special Education/IEP\, Section 504\, Advanced Learning Plans\, and English Learning Plans.  The meeting will be held on Tuesday\, March 5\, 2024 at 6:00 p.m. via Google Meets.  Please use this link to attend:  https://meet.google.com/aat-ywai-mum
URL:https://ortonk8.org/event/parent-meeting-special-programs/
CATEGORIES:All-School,Schedule Adjustments
END:VEVENT
END:VCALENDAR