BEGIN:VCALENDAR
VERSION:2.0
PRODID:-//Orton Academy - ECPv6.15.20//NONSGML v1.0//EN
CALSCALE:GREGORIAN
METHOD:PUBLISH
X-WR-CALNAME:Orton Academy
X-ORIGINAL-URL:https://ortonk8.org
X-WR-CALDESC:Events for Orton Academy
REFRESH-INTERVAL;VALUE=DURATION:PT1H
X-Robots-Tag:noindex
X-PUBLISHED-TTL:PT1H
BEGIN:VTIMEZONE
TZID:America/Denver
BEGIN:DAYLIGHT
TZOFFSETFROM:-0700
TZOFFSETTO:-0600
TZNAME:MDT
DTSTART:20230312T090000
END:DAYLIGHT
BEGIN:STANDARD
TZOFFSETFROM:-0600
TZOFFSETTO:-0700
TZNAME:MST
DTSTART:20231105T080000
END:STANDARD
BEGIN:DAYLIGHT
TZOFFSETFROM:-0700
TZOFFSETTO:-0600
TZNAME:MDT
DTSTART:20240310T090000
END:DAYLIGHT
BEGIN:STANDARD
TZOFFSETFROM:-0600
TZOFFSETTO:-0700
TZNAME:MST
DTSTART:20241103T080000
END:STANDARD
BEGIN:DAYLIGHT
TZOFFSETFROM:-0700
TZOFFSETTO:-0600
TZNAME:MDT
DTSTART:20250309T090000
END:DAYLIGHT
BEGIN:STANDARD
TZOFFSETFROM:-0600
TZOFFSETTO:-0700
TZNAME:MST
DTSTART:20251102T080000
END:STANDARD
END:VTIMEZONE
BEGIN:VEVENT
DTSTART;TZID=America/Denver:20240212T180000
DTEND;TZID=America/Denver:20240212T193000
DTSTAMP:20260424T164559
CREATED:20240205T182858Z
LAST-MODIFIED:20240205T182858Z
UID:11852-1707760800-1707766200@ortonk8.org
SUMMARY:PROWL Meeting - In Person
DESCRIPTION:Orton’s Parent Group – Parents of Reading Owls (PROWL) will be meeting in person on February 12th\, 6:00 p.m. at Torchy’s Tacos on Powers Blvd.  Please join us and learn how you can become involved!
URL:https://ortonk8.org/event/prowl-meeting-in-person/
CATEGORIES:All-School
END:VEVENT
END:VCALENDAR