BEGIN:VCALENDAR
VERSION:2.0
PRODID:-//Orton Academy - ECPv6.15.20//NONSGML v1.0//EN
CALSCALE:GREGORIAN
METHOD:PUBLISH
X-ORIGINAL-URL:https://ortonk8.org
X-WR-CALDESC:Events for Orton Academy
REFRESH-INTERVAL;VALUE=DURATION:PT1H
X-Robots-Tag:noindex
X-PUBLISHED-TTL:PT1H
BEGIN:VTIMEZONE
TZID:America/Denver
BEGIN:DAYLIGHT
TZOFFSETFROM:-0700
TZOFFSETTO:-0600
TZNAME:MDT
DTSTART:20220313T090000
END:DAYLIGHT
BEGIN:STANDARD
TZOFFSETFROM:-0600
TZOFFSETTO:-0700
TZNAME:MST
DTSTART:20221106T080000
END:STANDARD
BEGIN:DAYLIGHT
TZOFFSETFROM:-0700
TZOFFSETTO:-0600
TZNAME:MDT
DTSTART:20230312T090000
END:DAYLIGHT
BEGIN:STANDARD
TZOFFSETFROM:-0600
TZOFFSETTO:-0700
TZNAME:MST
DTSTART:20231105T080000
END:STANDARD
BEGIN:DAYLIGHT
TZOFFSETFROM:-0700
TZOFFSETTO:-0600
TZNAME:MDT
DTSTART:20240310T090000
END:DAYLIGHT
BEGIN:STANDARD
TZOFFSETFROM:-0600
TZOFFSETTO:-0700
TZNAME:MST
DTSTART:20241103T080000
END:STANDARD
END:VTIMEZONE
BEGIN:VEVENT
DTSTART;TZID=America/Denver:20231213T130000
DTEND;TZID=America/Denver:20231213T141500
DTSTAMP:20260424T185952
CREATED:20231129T173930Z
LAST-MODIFIED:20231129T173930Z
UID:11783-1702472400-1702476900@ortonk8.org
SUMMARY:Book Mobile
DESCRIPTION:The book mobile with be at Orton Academy on Dec 13th.
URL:https://ortonk8.org/event/book-mobile-5/
LOCATION:Orton Academy\, 3115 Larkspur Drive\, Colorado Springs\, 80907\, United States
END:VEVENT
END:VCALENDAR